BEGIN:VCALENDAR
METHOD:PUBLISH
VERSION:2.0
CALSCALE:GREGORIAN
PRODID:-//NONSGML Sandhills Development\, LLC//NONSGML Sugar Calendar Fe
 eds v3.7.3//EN
X-WR-CALNAME:Women's Dinner 2nd Wednesday
X-WR-CALDESC:Lely Presbyterian Church
X-WR-TIMEZONE:UTC
BEGIN:VTIMEZONE
TZID:UTC
BEGIN:STANDARD
TZOFFSETFROM:+0000
TZOFFSETTO:+0000
DTSTART:20230913T053000
TZNAME:UTC
END:STANDARD
END:VTIMEZONE
BEGIN:VTIMEZONE
TZID:UTC
BEGIN:STANDARD
TZOFFSETFROM:+0000
TZOFFSETTO:+0000
DTSTART:20230913T053000
TZNAME:UTC
END:STANDARD
END:VTIMEZONE
BEGIN:VEVENT
SUMMARY:Women's Dinner 2nd Wednesday
DESCRIPTION:Plan to attend the Women’s Dinner on the 2nd Wednesday of 
 each month\, location to be determined!  Send a note to Gail Minard if 
 planning to attend at gail.minard@yahoo.com.
URL;VALUE=URI:https://lpcnaples.org/events/womens-dinner-2nd-wednesday-3
 /
UID:urn:uuid:55f98011-48d8-4684-9840-0076b3646fe0
STATUS:CONFIRMED
ORGANIZER:
DTSTAMP:20260421T081937Z
DTSTART;TZID=UTC:20240313T173000
DTEND;TZID=UTC:20240313T193000
END:VEVENT
END:VCALENDAR