BEGIN:VCALENDAR
METHOD:PUBLISH
VERSION:2.0
CALSCALE:GREGORIAN
PRODID:-//NONSGML Sandhills Development\, LLC//NONSGML Sugar Calendar Fe
 eds v3.7.3//EN
X-WR-CALNAME:Women's Bible Study
X-WR-CALDESC:Lely Presbyterian Church
X-WR-TIMEZONE:UTC
BEGIN:VTIMEZONE
TZID:UTC
BEGIN:STANDARD
TZOFFSETFROM:+0000
TZOFFSETTO:+0000
DTSTART:20230925T223000
TZNAME:UTC
END:STANDARD
END:VTIMEZONE
BEGIN:VTIMEZONE
TZID:UTC
BEGIN:STANDARD
TZOFFSETFROM:+0000
TZOFFSETTO:+0000
DTSTART:20230925T223000
TZNAME:UTC
END:STANDARD
END:VTIMEZONE
BEGIN:VEVENT
SUMMARY:Women's Bible Study
DESCRIPTION:The women's Bible Study meets every Tuesday at 10:30 am. Ple
 ase contact Cherie Millsom with questions via email: cheriemillsom@gmail
 .com.
URL;VALUE=URI:https://lpcnaples.org/events/womens-bible-study-5/
UID:urn:uuid:546cd0bd-016c-417b-bfcd-b90b9cc68aa6
STATUS:CONFIRMED
ORGANIZER:
DTSTAMP:20260421T092741Z
DTSTART;TZID=UTC:20240326T103000
DTEND;TZID=UTC:20240326T113000
LOCATION:Lely Presbyterian Church\, 110 St Andrews Blvd\, Naples\, Flori
 da\, 34113
END:VEVENT
END:VCALENDAR