BEGIN:VCALENDAR
METHOD:PUBLISH
VERSION:2.0
CALSCALE:GREGORIAN
PRODID:-//NONSGML Sandhills Development\, LLC//NONSGML Sugar Calendar Fe
 eds v3.7.3//EN
X-WR-CALNAME:Women's Bible Study
X-WR-CALDESC:Lely Presbyterian Church
X-WR-TIMEZONE:UTC
BEGIN:VTIMEZONE
TZID:UTC
BEGIN:STANDARD
TZOFFSETFROM:+0000
TZOFFSETTO:+0000
DTSTART:20221031T223000
TZNAME:UTC
END:STANDARD
END:VTIMEZONE
BEGIN:VTIMEZONE
TZID:UTC
BEGIN:STANDARD
TZOFFSETFROM:+0000
TZOFFSETTO:+0000
DTSTART:20221031T223000
TZNAME:UTC
END:STANDARD
END:VTIMEZONE
BEGIN:VEVENT
SUMMARY:Women's Bible Study
DESCRIPTION:The Women's Bible Study will begin a Series on Matthew\, Tue
 sday\, May 2!  For more information\, send a note to Alida Helmlinger a
 talidash46@yahoo.com or call the church office 239-774-6151.\n\nWomen’
 s Bible Study Meets Each Tuesday at 10:30 am in Kemp Hall
URL;VALUE=URI:https://lpcnaples.org/events/womens-bible-study-2/
UID:urn:uuid:a0ecea92-7ddf-4a21-b7d5-bd77661fbe84
STATUS:CONFIRMED
ORGANIZER:
DTSTAMP:20260421T120852Z
DTSTART;TZID=UTC:20230502T103000
DTEND;TZID=UTC:20230502T113000
LOCATION:Lely Presbyterian Church\, 110 St Andrews Blvd\, Naples\, Flori
 da\, 34113
END:VEVENT
END:VCALENDAR