BEGIN:VCALENDAR
METHOD:PUBLISH
VERSION:2.0
CALSCALE:GREGORIAN
PRODID:-//NONSGML Sandhills Development\, LLC//NONSGML Sugar Calendar Fe
 eds v3.7.3//EN
X-WR-CALNAME:Sunday Worship 9 am Service - What Makes Jesus Mad? Traditi
 on
X-WR-CALDESC:Lely Presbyterian Church
X-WR-TIMEZONE:UTC
BEGIN:VTIMEZONE
TZID:UTC
BEGIN:STANDARD
TZOFFSETFROM:+0000
TZOFFSETTO:+0000
DTSTART:20230225T210000
TZNAME:UTC
END:STANDARD
END:VTIMEZONE
BEGIN:VTIMEZONE
TZID:UTC
BEGIN:STANDARD
TZOFFSETFROM:+0000
TZOFFSETTO:+0000
DTSTART:20230225T210000
TZNAME:UTC
END:STANDARD
END:VTIMEZONE
BEGIN:VEVENT
SUMMARY:Sunday Worship 9 am Service - What Makes Jesus Mad? Tradition
DESCRIPTION:Sunday\, July 30 begins a sermon series entitled:  “What 
 Made Jesus Mad?” based on a book by Tim Harlow!  Pastor Ed will look 
 at a various scripture\n\nTradition\n\nLuke 7.33-35
URL;VALUE=URI:https://lpcnaples.org/events/sunday-worship-9-am-service-w
 hat-makes-jesus-mad-tradition/
UID:urn:uuid:eb08907c-e473-4a97-b466-0c4ee7a570d2
STATUS:CONFIRMED
ORGANIZER:
DTSTAMP:20260419T172658Z
DTSTART;TZID=UTC:20230827T090000
DTEND;TZID=UTC:20230827T100000
LOCATION:Lely Presbyterian Church\, 110 St Andrews Blvd\, Naples\, Flori
 da\, 34113
END:VEVENT
END:VCALENDAR