BEGIN:VCALENDAR
METHOD:PUBLISH
VERSION:2.0
CALSCALE:GREGORIAN
PRODID:-//NONSGML Sandhills Development\, LLC//NONSGML Sugar Calendar Fe
 eds v3.7.3//EN
X-WR-CALNAME:Sunday Worship 9 am Service - How to be the Best Grand Pare
 nt Ever!! - Biblical Grandparents
X-WR-CALDESC:Lely Presbyterian Church
X-WR-TIMEZONE:UTC
BEGIN:VTIMEZONE
TZID:UTC
BEGIN:STANDARD
TZOFFSETFROM:+0000
TZOFFSETTO:+0000
DTSTART:20230325T210000
TZNAME:UTC
END:STANDARD
END:VTIMEZONE
BEGIN:VTIMEZONE
TZID:UTC
BEGIN:STANDARD
TZOFFSETFROM:+0000
TZOFFSETTO:+0000
DTSTART:20230325T210000
TZNAME:UTC
END:STANDARD
END:VTIMEZONE
BEGIN:VEVENT
SUMMARY:Sunday Worship 9 am Service - How to be the Best Grand Parent Ev
 er!! - Biblical Grandparents
DESCRIPTION:Pastor Ed begins a Sermon Series entitled\, “How To Be the
  Best Grandparents!” on Sunday\, September 24 and concluding on Octobe
 r 22!\n\nSeptember 24 – Biblical Grandparents\n\nOctober 1 – Faithfu
 l &amp\; Fruitful\n\nOctober 8 – Can’t Live Without Them!\n\nOctober
  15 – Spiritual Family Leaders\n\nOctober 22 – The Grandparents of J
 esus
URL;VALUE=URI:https://lpcnaples.org/events/sunday-worship-9-am-service-h
 ow-to-be-the-best-grand-parent-ever-biblical-grandparents/
UID:urn:uuid:276b290f-0060-436b-84ef-ab284fecc788
STATUS:CONFIRMED
ORGANIZER:
DTSTAMP:20260421T093058Z
DTSTART;TZID=UTC:20230924T090000
DTEND;TZID=UTC:20230924T100000
LOCATION:Lely Presbyterian Church\, 110 St Andrews Blvd\, Naples\, Flori
 da\, 34113
END:VEVENT
END:VCALENDAR