BEGIN:VCALENDAR
METHOD:PUBLISH
VERSION:2.0
CALSCALE:GREGORIAN
PRODID:-//NONSGML Sandhills Development\, LLC//NONSGML Sugar Calendar Fe
 eds v3.7.3//EN
X-WR-CALNAME:Sunday Worship 10:00 am Service
X-WR-CALDESC:Lely Presbyterian Church
X-WR-TIMEZONE:UTC
BEGIN:VTIMEZONE
TZID:UTC
BEGIN:STANDARD
TZOFFSETFROM:+0000
TZOFFSETTO:+0000
DTSTART:20240928T220000
TZNAME:UTC
END:STANDARD
END:VTIMEZONE
BEGIN:VTIMEZONE
TZID:UTC
BEGIN:STANDARD
TZOFFSETFROM:+0000
TZOFFSETTO:+0000
DTSTART:20240928T220000
TZNAME:UTC
END:STANDARD
END:VTIMEZONE
BEGIN:VEVENT
SUMMARY:Sunday Worship 10:00 am Service
DESCRIPTION:Pastor Jonas
URL;VALUE=URI:https://lpcnaples.org/events/sunday-worship-1000-am-servic
 e-58/
UID:urn:uuid:eb636284-1fbb-4f7f-907e-b45c827e1d7e
STATUS:CONFIRMED
ORGANIZER:
DTSTAMP:20260420T065608Z
DTSTART;TZID=UTC:20250330T100000
DTEND;TZID=UTC:20250330T110000
END:VEVENT
END:VCALENDAR