BEGIN:VCALENDAR
METHOD:PUBLISH
VERSION:2.0
CALSCALE:GREGORIAN
PRODID:-//NONSGML Sandhills Development\, LLC//NONSGML Sugar Calendar Fe
 eds v3.7.3//EN
X-WR-CALNAME:Sunday Worship 10:00 am Service
X-WR-CALDESC:Lely Presbyterian Church
X-WR-TIMEZONE:UTC
BEGIN:VTIMEZONE
TZID:UTC
BEGIN:STANDARD
TZOFFSETFROM:+0000
TZOFFSETTO:+0000
DTSTART:20240504T220000
TZNAME:UTC
END:STANDARD
END:VTIMEZONE
BEGIN:VTIMEZONE
TZID:UTC
BEGIN:STANDARD
TZOFFSETFROM:+0000
TZOFFSETTO:+0000
DTSTART:20240504T220000
TZNAME:UTC
END:STANDARD
END:VTIMEZONE
BEGIN:VEVENT
SUMMARY:Sunday Worship 10:00 am Service
DESCRIPTION:Sermon\nWe Are Surrounded\nPsalm 90: 1-6\, 10\, 12\nHebrews 
 12: 1-3\nReverend Winston Lawson\, Preaching\n\n﻿
URL;VALUE=URI:https://lpcnaples.org/events/sunday-worship-1000-am-servic
 e-40/
UID:urn:uuid:681bd5b1-e950-46d7-8750-ca51aa531361
STATUS:CONFIRMED
ORGANIZER:
DTSTAMP:20260421T082213Z
DTSTART;TZID=UTC:20241103T100000
DTEND;TZID=UTC:20241103T110000
LOCATION:Lely Presbyterian Church\, 110 St Andrews Blvd\, Naples\, Flori
 da\, 34113
END:VEVENT
END:VCALENDAR