BEGIN:VCALENDAR
METHOD:PUBLISH
VERSION:2.0
CALSCALE:GREGORIAN
PRODID:-//NONSGML Sandhills Development\, LLC//NONSGML Sugar Calendar Fe
 eds v3.7.3//EN
X-WR-CALNAME:Sunday Worship 10:00 am Service
X-WR-CALDESC:Lely Presbyterian Church
X-WR-TIMEZONE:UTC
BEGIN:VTIMEZONE
TZID:UTC
BEGIN:STANDARD
TZOFFSETFROM:+0000
TZOFFSETTO:+0000
DTSTART:20240420T220000
TZNAME:UTC
END:STANDARD
END:VTIMEZONE
BEGIN:VTIMEZONE
TZID:UTC
BEGIN:STANDARD
TZOFFSETFROM:+0000
TZOFFSETTO:+0000
DTSTART:20240420T220000
TZNAME:UTC
END:STANDARD
END:VTIMEZONE
BEGIN:VEVENT
SUMMARY:Sunday Worship 10:00 am Service
DESCRIPTION:Sermon\nJesus Had A Way With Problems\nIsaiah 55:6-13\nLuke 
 11:5-8\nReverend Winston Lawson\, Preaching\n﻿
URL;VALUE=URI:https://lpcnaples.org/events/sunday-worship-1000-am-servic
 e-38/
UID:urn:uuid:40ee1623-89a8-49e6-b22a-00de7cf40ead
STATUS:CONFIRMED
ORGANIZER:
DTSTAMP:20260421T105638Z
DTSTART;TZID=UTC:20241020T100000
DTEND;TZID=UTC:20241020T110000
LOCATION:Lely Presbyterian Church\, 110 St Andrews Blvd\, Naples\, Flori
 da\, 34113
END:VEVENT
END:VCALENDAR