BEGIN:VCALENDAR
METHOD:PUBLISH
VERSION:2.0
CALSCALE:GREGORIAN
PRODID:-//NONSGML Sandhills Development\, LLC//NONSGML Sugar Calendar Fe
 eds v3.7.3//EN
X-WR-CALNAME:Sunday Worship 10:00 am Service
X-WR-CALDESC:Lely Presbyterian Church
X-WR-TIMEZONE:UTC
BEGIN:VTIMEZONE
TZID:UTC
BEGIN:STANDARD
TZOFFSETFROM:+0000
TZOFFSETTO:+0000
DTSTART:20240309T220000
TZNAME:UTC
END:STANDARD
END:VTIMEZONE
BEGIN:VTIMEZONE
TZID:UTC
BEGIN:STANDARD
TZOFFSETFROM:+0000
TZOFFSETTO:+0000
DTSTART:20240309T220000
TZNAME:UTC
END:STANDARD
END:VTIMEZONE
BEGIN:VEVENT
SUMMARY:Sunday Worship 10:00 am Service
DESCRIPTION:Sermon\nWho Is Our God?\nPsalm 46:1-11\nLuke 15:25-32\nRever
 end Winston Lawson\, Preaching\n\n﻿
URL;VALUE=URI:https://lpcnaples.org/events/sunday-worship-1000-am-servic
 e-32/
UID:urn:uuid:1f98f5eb-233c-4908-bfd1-1397c36910ad
STATUS:CONFIRMED
ORGANIZER:
DTSTAMP:20260421T093042Z
DTSTART;TZID=UTC:20240908T100000
DTEND;TZID=UTC:20240908T110000
LOCATION:Lely Presbyterian Church\, 110 St Andrews Blvd\, Naples\, Flori
 da\, 34113
END:VEVENT
END:VCALENDAR