BEGIN:VCALENDAR
METHOD:PUBLISH
VERSION:2.0
CALSCALE:GREGORIAN
PRODID:-//NONSGML Sandhills Development\, LLC//NONSGML Sugar Calendar Fe
 eds v3.7.3//EN
X-WR-CALNAME:Sunday Service
X-WR-CALDESC:Lely Presbyterian Church
X-WR-TIMEZONE:UTC
BEGIN:VTIMEZONE
TZID:UTC
BEGIN:STANDARD
TZOFFSETFROM:+0000
TZOFFSETTO:+0000
DTSTART:20251115T220000
TZNAME:UTC
END:STANDARD
END:VTIMEZONE
BEGIN:VTIMEZONE
TZID:UTC
BEGIN:STANDARD
TZOFFSETFROM:+0000
TZOFFSETTO:+0000
DTSTART:20251115T220000
TZNAME:UTC
END:STANDARD
END:VTIMEZONE
BEGIN:VEVENT
SUMMARY:Sunday Service
DESCRIPTION:Come worship at Lely Presbyterian church every Sunday at 10 
 AM. Lely Church also offers live streaming in real time each Sunday morn
 ing. Find the links on our Live page. (Video stream links updated in adv
 ance monthly. IF you don’t see the thumb nail\, come back later.)
URL;VALUE=URI:https://lpcnaples.org/events/sunday-service-5/
UID:urn:uuid:f13071b2-a94a-47b3-a958-5433958199fe
STATUS:CONFIRMED
ORGANIZER:
DTSTAMP:20260421T081900Z
DTSTART;TZID=UTC:20260517T100000
DTEND;TZID=UTC:20260517T110000
LOCATION:110 St Andrews Blvd.
END:VEVENT
END:VCALENDAR