BEGIN:VCALENDAR
METHOD:PUBLISH
VERSION:2.0
CALSCALE:GREGORIAN
PRODID:-//NONSGML Sandhills Development\, LLC//NONSGML Sugar Calendar Fe
 eds v3.7.3//EN
X-WR-CALNAME:Sunday Service
X-WR-CALDESC:Lely Presbyterian Church
X-WR-TIMEZONE:UTC
BEGIN:VTIMEZONE
TZID:UTC
BEGIN:STANDARD
TZOFFSETFROM:+0000
TZOFFSETTO:+0000
DTSTART:20251025T220000
TZNAME:UTC
END:STANDARD
END:VTIMEZONE
BEGIN:VTIMEZONE
TZID:UTC
BEGIN:STANDARD
TZOFFSETFROM:+0000
TZOFFSETTO:+0000
DTSTART:20251025T220000
TZNAME:UTC
END:STANDARD
END:VTIMEZONE
BEGIN:VEVENT
SUMMARY:Sunday Service
DESCRIPTION:Come worship at Lely Presbyterian church every Sunday at 10 
 AM. Lely Church also offers live streaming in real time each Sunday morn
 ing. Find the links on our Live page. […]
URL;VALUE=URI:https://lpcnaples.org/events/sunday-service-2/
UID:urn:uuid:1d6ca2d9-a051-4956-90b8-0373aef08776
STATUS:CONFIRMED
ORGANIZER:
DTSTAMP:20260419T133736Z
DTSTART;TZID=UTC:20260426T100000
DTEND;TZID=UTC:20260426T110000
LOCATION:110 St Andrews Blvd.
END:VEVENT
END:VCALENDAR