BEGIN:VCALENDAR
METHOD:PUBLISH
VERSION:2.0
CALSCALE:GREGORIAN
PRODID:-//NONSGML Sandhills Development\, LLC//NONSGML Sugar Calendar Fe
 eds v3.7.3//EN
X-WR-CALNAME:Sunday Service 10 AM
X-WR-CALDESC:Lely Presbyterian Church
X-WR-TIMEZONE:UTC
BEGIN:VTIMEZONE
TZID:UTC
BEGIN:STANDARD
TZOFFSETFROM:+0000
TZOFFSETTO:+0000
DTSTART:20250927T220000
TZNAME:UTC
END:STANDARD
END:VTIMEZONE
BEGIN:VTIMEZONE
TZID:UTC
BEGIN:STANDARD
TZOFFSETFROM:+0000
TZOFFSETTO:+0000
DTSTART:20250927T220000
TZNAME:UTC
END:STANDARD
END:VTIMEZONE
BEGIN:VEVENT
SUMMARY:Sunday Service 10 AM
DESCRIPTION:
URL;VALUE=URI:https://lpcnaples.org/events/sunday-service-10-am-8-6/
UID:urn:uuid:b60837a1-7fbf-4295-a43f-36acd8d96308
STATUS:CONFIRMED
ORGANIZER:
DTSTAMP:20260421T082042Z
DTSTART;TZID=UTC:20260329T100000
DTEND;TZID=UTC:20260329T110000
LOCATION:110 St Andrews Blvd
END:VEVENT
END:VCALENDAR