BEGIN:VCALENDAR
METHOD:PUBLISH
VERSION:2.0
CALSCALE:GREGORIAN
PRODID:-//NONSGML Sandhills Development\, LLC//NONSGML Sugar Calendar Fe
 eds v3.7.3//EN
X-WR-CALNAME:Sunday Service 10 am
X-WR-CALDESC:Lely Presbyterian Church
X-WR-TIMEZONE:UTC
BEGIN:VTIMEZONE
TZID:UTC
BEGIN:STANDARD
TZOFFSETFROM:+0000
TZOFFSETTO:+0000
DTSTART:20241005T220000
TZNAME:UTC
END:STANDARD
END:VTIMEZONE
BEGIN:VTIMEZONE
TZID:UTC
BEGIN:STANDARD
TZOFFSETFROM:+0000
TZOFFSETTO:+0000
DTSTART:20241005T220000
TZNAME:UTC
END:STANDARD
END:VTIMEZONE
BEGIN:VEVENT
SUMMARY:Sunday Service 10 am
DESCRIPTION:Come worship at Lely Presbyterian church every Sunday at 10 
 am. Lely Church also offers live streaming in real time each Sunday morn
 ing. Find the links on our Live page. (Video stream links updated in adv
 ance monthly. IF you don't see the thumb nail\, come back later.)\n\nWel
 come our new members!
URL;VALUE=URI:https://lpcnaples.org/events/sunday-service-10-am-3/
UID:urn:uuid:1a88a3ff-28cb-4a64-bca3-116ea765bf89
STATUS:CONFIRMED
ORGANIZER:
DTSTAMP:20260421T122255Z
DTSTART;TZID=UTC:20250406T100000
DTEND;TZID=UTC:20250406T110000
LOCATION:110 St Andrews Blvd
END:VEVENT
END:VCALENDAR