BEGIN:VCALENDAR
METHOD:PUBLISH
VERSION:2.0
CALSCALE:GREGORIAN
PRODID:-//NONSGML Sandhills Development\, LLC//NONSGML Sugar Calendar Fe
 eds v3.7.3//EN
X-WR-CALNAME:Sunday 10:30 am Worship - How to be the Best Grand Parents 
 Ever!!- Biblical Grandparents
X-WR-CALDESC:Lely Presbyterian Church
X-WR-TIMEZONE:UTC
BEGIN:VTIMEZONE
TZID:UTC
BEGIN:STANDARD
TZOFFSETFROM:+0000
TZOFFSETTO:+0000
DTSTART:20230325T223000
TZNAME:UTC
END:STANDARD
END:VTIMEZONE
BEGIN:VTIMEZONE
TZID:UTC
BEGIN:STANDARD
TZOFFSETFROM:+0000
TZOFFSETTO:+0000
DTSTART:20230325T223000
TZNAME:UTC
END:STANDARD
END:VTIMEZONE
BEGIN:VEVENT
SUMMARY:Sunday 10:30 am Worship - How to be the Best Grand Parents Ever!
 !- Biblical Grandparents
DESCRIPTION:Pastor Ed begins a Sermon Series entitled\, “How To Be the
  Best Grandparents!” on Sunday\, September 24 and concluding on Octobe
 r 22!\n\nSeptember 24 – Biblical Grandparents\n\nOctober 1 – Faithfu
 l &amp\; Fruitful\n\nOctober 8 – Can’t Live Without Them!\n\nOctober
  15 – Spiritual Family Leaders\n\nOctober 22 – The Grandparents of J
 esus
URL;VALUE=URI:https://lpcnaples.org/events/sunday-1030-am-worship-how-to
 -be-the-best-grand-parents-ever-biblical-grandparents/
UID:urn:uuid:1ccd1d2b-aa21-4ab5-ad45-a2c191323bf2
STATUS:CONFIRMED
ORGANIZER:
DTSTAMP:20260419T164654Z
DTSTART;TZID=UTC:20230924T103000
DTEND;TZID=UTC:20230924T113000
LOCATION:Lely Presbyterian Church\, 110 St Andrews Blvd\, Naples\, Flori
 da\, 34113
END:VEVENT
END:VCALENDAR