BEGIN:VCALENDAR
METHOD:PUBLISH
VERSION:2.0
CALSCALE:GREGORIAN
PRODID:-//NONSGML Sandhills Development\, LLC//NONSGML Sugar Calendar Fe
 eds v3.7.3//EN
X-WR-CALNAME:Sunday 10:30 am Worship - All Saints Sunday - How to Be Sat
 isfied in the Midst of Sorrow
X-WR-CALDESC:Lely Presbyterian Church
X-WR-TIMEZONE:UTC
BEGIN:VTIMEZONE
TZID:UTC
BEGIN:STANDARD
TZOFFSETFROM:+0000
TZOFFSETTO:+0000
DTSTART:20230506T223000
TZNAME:UTC
END:STANDARD
END:VTIMEZONE
BEGIN:VTIMEZONE
TZID:UTC
BEGIN:STANDARD
TZOFFSETFROM:+0000
TZOFFSETTO:+0000
DTSTART:20230506T223000
TZNAME:UTC
END:STANDARD
END:VTIMEZONE
BEGIN:VEVENT
SUMMARY:Sunday 10:30 am Worship - All Saints Sunday - How to Be Satisfie
 d in the Midst of Sorrow
DESCRIPTION:During the 10:30 am worship service\, Lely will remember mem
 bers and friends who Joined the Church Triumphant during the previous ye
 ar!\nSermon\nHow to Be Satisfied in the Midst of Sorrow\nEcclesiastes 3.
 1-15 \nEd Brandt\, Preaching
URL;VALUE=URI:https://lpcnaples.org/events/sunday-1030-am-worship-all-sa
 ints-sunday-how-to-be-satisfied-in-the-midst-of-sorrow/
UID:urn:uuid:7b4dbc18-f043-418b-b5f4-a78d6d2f6025
STATUS:CONFIRMED
ORGANIZER:
DTSTAMP:20260420T141217Z
DTSTART;TZID=UTC:20231105T103000
DTEND;TZID=UTC:20231105T113000
LOCATION:Lely Presbyterian Church\, 110 St Andrews Blvd\, Naples\, Flori
 da\, 34113
END:VEVENT
END:VCALENDAR