BEGIN:VCALENDAR
METHOD:PUBLISH
VERSION:2.0
CALSCALE:GREGORIAN
PRODID:-//NONSGML Sandhills Development\, LLC//NONSGML Sugar Calendar Fe
 eds v3.7.3//EN
X-WR-CALNAME:September Cook-In
X-WR-CALDESC:Lely Presbyterian Church
X-WR-TIMEZONE:UTC
BEGIN:VTIMEZONE
TZID:UTC
BEGIN:STANDARD
TZOFFSETFROM:+0000
TZOFFSETTO:+0000
DTSTART:20240323T000000
TZNAME:UTC
END:STANDARD
END:VTIMEZONE
BEGIN:VTIMEZONE
TZID:UTC
BEGIN:STANDARD
TZOFFSETFROM:+0000
TZOFFSETTO:+0000
DTSTART:20240323T000000
TZNAME:UTC
END:STANDARD
END:VTIMEZONE
BEGIN:VEVENT
SUMMARY:September Cook-In
DESCRIPTION:The September Cook-In will be September 21st\, at noon\, in 
 Kemp Hall. It will be a Pot Luck meal with meat loaf provided. Everyone 
 is asked to bring a side or dessert. We will prepare beverages. Please 
 make a reservation with Bonnie Kluttz – 239-777-8978 – so we know ho
 w many meat loaves to prepare.
URL;VALUE=URI:https://lpcnaples.org/events/september-cook-in/
UID:urn:uuid:173e8fc4-bcc3-4e8b-980e-1f7cbd8d6cc8
STATUS:CONFIRMED
ORGANIZER:
DTSTAMP:20260421T121422Z
DTSTART;TZID=UTC:20240921T120000
DTEND;TZID=UTC:20240921T133000
LOCATION:Lely Presbyterian Church\, 110 St Andrews Blvd\, Naples\, Flori
 da\, 34113
END:VEVENT
END:VCALENDAR