BEGIN:VCALENDAR
METHOD:PUBLISH
VERSION:2.0
CALSCALE:GREGORIAN
PRODID:-//NONSGML Sandhills Development\, LLC//NONSGML Sugar Calendar Fe
 eds v3.7.3//EN
X-WR-CALNAME:Pancake Breakfast
X-WR-CALDESC:Lely Presbyterian Church
X-WR-TIMEZONE:UTC
BEGIN:VTIMEZONE
TZID:UTC
BEGIN:STANDARD
TZOFFSETFROM:+0000
TZOFFSETTO:+0000
DTSTART:20240504T233000
TZNAME:UTC
END:STANDARD
END:VTIMEZONE
BEGIN:VTIMEZONE
TZID:UTC
BEGIN:STANDARD
TZOFFSETFROM:+0000
TZOFFSETTO:+0000
DTSTART:20240504T233000
TZNAME:UTC
END:STANDARD
END:VTIMEZONE
BEGIN:VEVENT
SUMMARY:Pancake Breakfast
DESCRIPTION:Join the Scouts for a Pankcake Breakfast\, after worship in 
 Kemp Hall\, on November 3rd. Beat the crowds at the restaurants and enjo
 y pancakes\, bacon\, sausage\, eggs\, fruit and beverages. Your support 
 of our youth is really appreciated!
URL;VALUE=URI:https://lpcnaples.org/events/pancake-breakfast/
UID:urn:uuid:a4f05569-88af-4fc8-8887-6be8b13d7a7f
STATUS:CONFIRMED
ORGANIZER:
DTSTAMP:20260421T093329Z
DTSTART;TZID=UTC:20241103T113000
DTEND;TZID=UTC:20241103T113000
LOCATION:Lely Presbyterian Church\, 110 St Andrews Blvd\, Naples\, Flori
 da\, 34113
END:VEVENT
END:VCALENDAR