BEGIN:VCALENDAR
METHOD:PUBLISH
VERSION:2.0
CALSCALE:GREGORIAN
PRODID:-//NONSGML Sandhills Development\, LLC//NONSGML Sugar Calendar Fe
 eds v3.7.3//EN
X-WR-CALNAME:Office Hours 9 - 12
X-WR-CALDESC:Lely Presbyterian Church
X-WR-TIMEZONE:UTC
BEGIN:VTIMEZONE
TZID:UTC
BEGIN:STANDARD
TZOFFSETFROM:+0000
TZOFFSETTO:+0000
DTSTART:20230925T210000
TZNAME:UTC
END:STANDARD
END:VTIMEZONE
BEGIN:VTIMEZONE
TZID:UTC
BEGIN:STANDARD
TZOFFSETFROM:+0000
TZOFFSETTO:+0000
DTSTART:20230925T210000
TZNAME:UTC
END:STANDARD
END:VTIMEZONE
BEGIN:VEVENT
SUMMARY:Office Hours 9 - 12
DESCRIPTION:
URL;VALUE=URI:https://lpcnaples.org/events/office-hours-9-12-2/
UID:urn:uuid:eee2fe28-a53b-4ab6-87ac-9f33492b2459
STATUS:CONFIRMED
ORGANIZER:
DTSTAMP:20260421T104306Z
DTSTART;TZID=UTC:20240326T090000
DTEND;TZID=UTC:20240326T120000
END:VEVENT
END:VCALENDAR