BEGIN:VCALENDAR
METHOD:PUBLISH
VERSION:2.0
CALSCALE:GREGORIAN
PRODID:-//NONSGML Sandhills Development\, LLC//NONSGML Sugar Calendar Fe
 eds v3.7.3//EN
X-WR-CALNAME:New Horizons Parent Meeting Open House
X-WR-CALDESC:Lely Presbyterian Church
X-WR-TIMEZONE:UTC
BEGIN:VTIMEZONE
TZID:UTC
BEGIN:STANDARD
TZOFFSETFROM:+0000
TZOFFSETTO:+0000
DTSTART:20221108T060000
TZNAME:UTC
END:STANDARD
END:VTIMEZONE
BEGIN:VTIMEZONE
TZID:UTC
BEGIN:STANDARD
TZOFFSETFROM:+0000
TZOFFSETTO:+0000
DTSTART:20221108T060000
TZNAME:UTC
END:STANDARD
END:VTIMEZONE
BEGIN:VEVENT
SUMMARY:New Horizons Parent Meeting Open House
DESCRIPTION:New Horizons will host a Parent Meeting Open House on Tuesda
 y\, May 9 from 6:00-7:00 pm in Kemp Hall
URL;VALUE=URI:https://lpcnaples.org/events/new-horizons-parent-meeting-o
 pen-house/
UID:urn:uuid:56fc0f30-a728-4fae-9fe3-0e22379819b0
STATUS:CONFIRMED
ORGANIZER:
DTSTAMP:20260421T093907Z
DTSTART;TZID=UTC:20230509T180000
DTEND;TZID=UTC:20230509T190000
END:VEVENT
END:VCALENDAR