BEGIN:VCALENDAR
METHOD:PUBLISH
VERSION:2.0
CALSCALE:GREGORIAN
PRODID:-//NONSGML Sandhills Development\, LLC//NONSGML Sugar Calendar Fe
 eds v3.7.3//EN
X-WR-CALNAME:Men's Fellowship Breakfast
X-WR-CALDESC:Lely Presbyterian Church
X-WR-TIMEZONE:UTC
BEGIN:VTIMEZONE
TZID:UTC
BEGIN:STANDARD
TZOFFSETFROM:+0000
TZOFFSETTO:+0000
DTSTART:20220821T210000
TZNAME:UTC
END:STANDARD
END:VTIMEZONE
BEGIN:VTIMEZONE
TZID:UTC
BEGIN:STANDARD
TZOFFSETFROM:+0000
TZOFFSETTO:+0000
DTSTART:20220821T210000
TZNAME:UTC
END:STANDARD
END:VTIMEZONE
BEGIN:VEVENT
SUMMARY:Men's Fellowship Breakfast
DESCRIPTION:Speaker will be our own Bobby Zwerin about Deep Sea Fishing 
 in the Gulf!
URL;VALUE=URI:https://lpcnaples.org/events/mens-fellowship-breakfast/
UID:urn:uuid:4246bd18-f72d-4987-9db8-efcb1bfb3a8e
STATUS:CONFIRMED
ORGANIZER:
DTSTAMP:20260421T093329Z
DTSTART;TZID=UTC:20230220T090000
DTEND;TZID=UTC:20230220T170000
LOCATION:Perkins Restaurant\, 4335 Tamiami Trail East\, Naples\, 34112
END:VEVENT
END:VCALENDAR