BEGIN:VCALENDAR
METHOD:PUBLISH
VERSION:2.0
CALSCALE:GREGORIAN
PRODID:-//NONSGML Sandhills Development\, LLC//NONSGML Sugar Calendar Fe
 eds v3.7.3//EN
X-WR-CALNAME:Men's Dinner Wednesday\, May 13 at 5:00 p.m.
X-WR-CALDESC:Lely Presbyterian Church
X-WR-TIMEZONE:UTC
BEGIN:VTIMEZONE
TZID:UTC
BEGIN:STANDARD
TZOFFSETFROM:+0000
TZOFFSETTO:+0000
DTSTART:20251112T050000
TZNAME:UTC
END:STANDARD
END:VTIMEZONE
BEGIN:VTIMEZONE
TZID:UTC
BEGIN:STANDARD
TZOFFSETFROM:+0000
TZOFFSETTO:+0000
DTSTART:20251112T050000
TZNAME:UTC
END:STANDARD
END:VTIMEZONE
BEGIN:VEVENT
SUMMARY:Men's Dinner Wednesday\, May 13 at 5:00 p.m.
DESCRIPTION:The men’s dinner will be held on Wednesday\, May 13 at 5:0
 0 p.m.\, at Aldo’s Italian Table\, 4820 Davis Blvd. Please RSVP to Bo
 b Hartley at (724) 984-3052.
URL;VALUE=URI:https://lpcnaples.org/events/mens-dinner-wednesday-may-13-
 at-500-p-m/
UID:urn:uuid:8569a2ad-954c-4368-8cdb-7670fb5ef1c6
STATUS:CONFIRMED
ORGANIZER:
DTSTAMP:20260425T153907Z
DTSTART;TZID=UTC:20260513T170000
DTEND;TZID=UTC:20260513T183000
END:VEVENT
END:VCALENDAR