BEGIN:VCALENDAR
METHOD:PUBLISH
VERSION:2.0
CALSCALE:GREGORIAN
PRODID:-//NONSGML Sandhills Development\, LLC//NONSGML Sugar Calendar Fe
 eds v3.7.3//EN
X-WR-CALNAME:Meals of Hope
X-WR-CALDESC:Lely Presbyterian Church
X-WR-TIMEZONE:UTC
BEGIN:VTIMEZONE
TZID:UTC
BEGIN:STANDARD
TZOFFSETFROM:+0000
TZOFFSETTO:+0000
DTSTART:20220808T030000
TZNAME:UTC
END:STANDARD
END:VTIMEZONE
BEGIN:VTIMEZONE
TZID:UTC
BEGIN:STANDARD
TZOFFSETFROM:+0000
TZOFFSETTO:+0000
DTSTART:20220808T030000
TZNAME:UTC
END:STANDARD
END:VTIMEZONE
BEGIN:VEVENT
SUMMARY:Meals of Hope
DESCRIPTION:Join Lely Presbyterian Church on Mondays from 3:00-5:00 pm t
 o help distribute food on the Lely Pres Campus for Meals of Hope!  Send
  a note to info@lpcnaples.org to volunteer to help!
URL;VALUE=URI:https://lpcnaples.org/events/meals-of-hope/
UID:urn:uuid:ece1cafc-074d-487e-815a-eecce1486d44
STATUS:CONFIRMED
ORGANIZER:
DTSTAMP:20260419T132658Z
DTSTART;TZID=UTC:20230206T150000
DTEND;TZID=UTC:20230206T170000
END:VEVENT
END:VCALENDAR