BEGIN:VCALENDAR
METHOD:PUBLISH
VERSION:2.0
CALSCALE:GREGORIAN
PRODID:-//NONSGML Sandhills Development\, LLC//NONSGML Sugar Calendar Fe
 eds v3.7.3//EN
X-WR-CALNAME:Meals of Hope - Packing Event
X-WR-CALDESC:Lely Presbyterian Church
X-WR-TIMEZONE:UTC
BEGIN:VTIMEZONE
TZID:UTC
BEGIN:STANDARD
TZOFFSETFROM:+0000
TZOFFSETTO:+0000
DTSTART:20231207T210000
TZNAME:UTC
END:STANDARD
END:VTIMEZONE
BEGIN:VTIMEZONE
TZID:UTC
BEGIN:STANDARD
TZOFFSETFROM:+0000
TZOFFSETTO:+0000
DTSTART:20231207T210000
TZNAME:UTC
END:STANDARD
END:VTIMEZONE
BEGIN:VEVENT
SUMMARY:Meals of Hope - Packing Event
DESCRIPTION:Volunteers are needed for the next Meals of Hope Packing Eve
 nt on Friday\, June 7th\, at the warehouse at 4344 Arnold Avenue\, from 
 9:00 AM – 11:00 AM. Please call\, or text\, Bonnie Hartley at 724-366-
 1465 if you are able to help.
URL;VALUE=URI:https://lpcnaples.org/events/meals-of-hope-packing-event-4
 /
UID:urn:uuid:f4e5fd1a-1fdb-4036-8b82-7978bc3b0fd6
STATUS:CONFIRMED
ORGANIZER:
DTSTAMP:20260419T131035Z
DTSTART;TZID=UTC:20240607T090000
DTEND;TZID=UTC:20240607T110000
LOCATION:Meals of Hope\, 4344 Arnold Ave\, Naples\, FL
END:VEVENT
END:VCALENDAR