BEGIN:VCALENDAR
METHOD:PUBLISH
VERSION:2.0
CALSCALE:GREGORIAN
PRODID:-//NONSGML Sandhills Development\, LLC//NONSGML Sugar Calendar Fe
 eds v3.7.3//EN
X-WR-CALNAME:Life Line Screening
X-WR-CALDESC:Lely Presbyterian Church
X-WR-TIMEZONE:UTC
BEGIN:VTIMEZONE
TZID:UTC
BEGIN:STANDARD
TZOFFSETFROM:+0000
TZOFFSETTO:+0000
DTSTART:20230327T200000
TZNAME:UTC
END:STANDARD
END:VTIMEZONE
BEGIN:VTIMEZONE
TZID:UTC
BEGIN:STANDARD
TZOFFSETFROM:+0000
TZOFFSETTO:+0000
DTSTART:20230327T200000
TZNAME:UTC
END:STANDARD
END:VTIMEZONE
BEGIN:VEVENT
SUMMARY:Life Line Screening
DESCRIPTION:Life Line Screening will be held in Kemp Hall at Lely Presby
 terian Church.
URL;VALUE=URI:https://lpcnaples.org/events/life-line-screening/
UID:urn:uuid:148d472f-1a1b-4f5c-8ebd-db5c3525c114
STATUS:CONFIRMED
ORGANIZER:
DTSTAMP:20260421T104632Z
DTSTART;TZID=UTC:20230926T080000
DTEND;TZID=UTC:20230926T170000
END:VEVENT
END:VCALENDAR