BEGIN:VCALENDAR
METHOD:PUBLISH
VERSION:2.0
CALSCALE:GREGORIAN
PRODID:-//NONSGML Sandhills Development\, LLC//NONSGML Sugar Calendar Fe
 eds v3.7.3//EN
X-WR-CALNAME:Lely Workday\, Saturday\, May 2 at 9:00 a.m.
X-WR-CALDESC:Lely Presbyterian Church
X-WR-TIMEZONE:UTC
BEGIN:VTIMEZONE
TZID:UTC
BEGIN:STANDARD
TZOFFSETFROM:+0000
TZOFFSETTO:+0000
DTSTART:20251031T210000
TZNAME:UTC
END:STANDARD
END:VTIMEZONE
BEGIN:VTIMEZONE
TZID:UTC
BEGIN:STANDARD
TZOFFSETFROM:+0000
TZOFFSETTO:+0000
DTSTART:20251031T210000
TZNAME:UTC
END:STANDARD
END:VTIMEZONE
BEGIN:VEVENT
SUMMARY:Lely Workday\, Saturday\, May 2 at 9:00 a.m.
DESCRIPTION:Building and Grounds workday. Help is needed in all skill an
 d ability levels on Saturday\, May 2\, 9 to 11. Questions to Bob Stewart
  (610) 657 - 7377
URL;VALUE=URI:https://lpcnaples.org/events/lely-workday-saturday-may-2-a
 t-900-a-m/
UID:urn:uuid:b89e0440-8112-4791-adeb-96807ae9084d
STATUS:CONFIRMED
ORGANIZER:
DTSTAMP:20260425T153907Z
DTSTART;TZID=UTC:20260502T090000
DTEND;TZID=UTC:20260502T110000
LOCATION:110 St Andrews Blvd.
END:VEVENT
END:VCALENDAR