BEGIN:VCALENDAR
METHOD:PUBLISH
VERSION:2.0
CALSCALE:GREGORIAN
PRODID:-//NONSGML Sandhills Development\, LLC//NONSGML Sugar Calendar Fe
 eds v3.7.3//EN
X-WR-CALNAME:Lely Work Day
X-WR-CALDESC:Lely Presbyterian Church
X-WR-TIMEZONE:UTC
BEGIN:VTIMEZONE
TZID:UTC
BEGIN:STANDARD
TZOFFSETFROM:+0000
TZOFFSETTO:+0000
DTSTART:20241206T210000
TZNAME:UTC
END:STANDARD
END:VTIMEZONE
BEGIN:VTIMEZONE
TZID:UTC
BEGIN:STANDARD
TZOFFSETFROM:+0000
TZOFFSETTO:+0000
DTSTART:20241206T210000
TZNAME:UTC
END:STANDARD
END:VTIMEZONE
BEGIN:VEVENT
SUMMARY:Lely Work Day
DESCRIPTION:Lely Work Day!\n\nYour help will be key to maintaining our p
 hysical campus to the glory of God’s plan for our Lely neighbors.\n\nB
 ob Stewart\, Maintenance Volunteer\, 610-657-0195
URL;VALUE=URI:https://lpcnaples.org/events/lely-work-day-4/
UID:urn:uuid:c39ffa0c-2716-48bc-accd-6e97f8b0bcfe
STATUS:CONFIRMED
ORGANIZER:
DTSTAMP:20260421T093433Z
DTSTART;TZID=UTC:20250607T090000
DTEND;TZID=UTC:20250607T110000
END:VEVENT
END:VCALENDAR