BEGIN:VCALENDAR
METHOD:PUBLISH
VERSION:2.0
CALSCALE:GREGORIAN
PRODID:-//NONSGML Sandhills Development\, LLC//NONSGML Sugar Calendar Fe
 eds v3.7.3//EN
X-WR-CALNAME:Lely Pres will Host Rev. Melana Scruggs as Guest Speaker
X-WR-CALDESC:Lely Presbyterian Church
X-WR-TIMEZONE:UTC
BEGIN:VTIMEZONE
TZID:UTC
BEGIN:STANDARD
TZOFFSETFROM:+0000
TZOFFSETTO:+0000
DTSTART:20221119T210000
TZNAME:UTC
END:STANDARD
END:VTIMEZONE
BEGIN:VTIMEZONE
TZID:UTC
BEGIN:STANDARD
TZOFFSETFROM:+0000
TZOFFSETTO:+0000
DTSTART:20221119T210000
TZNAME:UTC
END:STANDARD
END:VTIMEZONE
BEGIN:VEVENT
SUMMARY:Lely Pres will Host Rev. Melana Scruggs as Guest Speaker
DESCRIPTION:Lely Presbyterian Church will host Rev. Melana Scruggs\, Exe
 cutive Presbyter for Peace Presbyter\, at the 9:00 &amp\; 10:30 am servi
 ces of worship on Sunday\, May 21!
URL;VALUE=URI:https://lpcnaples.org/events/lely-pres-will-host-rev-melan
 a-scruggs-as-guest-speaker/
UID:urn:uuid:52e1c87a-d461-4026-90e8-25aba9a30498
STATUS:CONFIRMED
ORGANIZER:
DTSTAMP:20260421T134905Z
DTSTART;TZID=UTC:20230521T090000
DTEND;TZID=UTC:20230521T113000
END:VEVENT
END:VCALENDAR