BEGIN:VCALENDAR
METHOD:PUBLISH
VERSION:2.0
CALSCALE:GREGORIAN
PRODID:-//NONSGML Sandhills Development\, LLC//NONSGML Sugar Calendar Fe
 eds v3.7.3//EN
X-WR-CALNAME:Lely Civic Association HOA Meeting
X-WR-CALDESC:Lely Presbyterian Church
X-WR-TIMEZONE:UTC
BEGIN:VTIMEZONE
TZID:UTC
BEGIN:STANDARD
TZOFFSETFROM:+0000
TZOFFSETTO:+0000
DTSTART:20230117T060000
TZNAME:UTC
END:STANDARD
END:VTIMEZONE
BEGIN:VTIMEZONE
TZID:UTC
BEGIN:STANDARD
TZOFFSETFROM:+0000
TZOFFSETTO:+0000
DTSTART:20230117T060000
TZNAME:UTC
END:STANDARD
END:VTIMEZONE
BEGIN:VEVENT
SUMMARY:Lely Civic Association HOA Meeting
DESCRIPTION:The Lely Civic Association HOA Meeting will be held in the s
 anctuary of Lely Presbyterian Church (since work is being done in Kemp H
 all).
URL;VALUE=URI:https://lpcnaples.org/events/lely-civic-association-hoa-me
 eting/
UID:urn:uuid:80e4a85d-a2cd-463d-8675-f6a77efc5d68
STATUS:CONFIRMED
ORGANIZER:
DTSTAMP:20260421T082133Z
DTSTART;TZID=UTC:20230718T180000
DTEND;TZID=UTC:20230718T193000
END:VEVENT
END:VCALENDAR