BEGIN:VCALENDAR
METHOD:PUBLISH
VERSION:2.0
CALSCALE:GREGORIAN
PRODID:-//NONSGML Sandhills Development\, LLC//NONSGML Sugar Calendar Fe
 eds v3.7.3//EN
X-WR-CALNAME:Lady's Night Out
X-WR-CALDESC:Lely Presbyterian Church
X-WR-TIMEZONE:UTC
BEGIN:VTIMEZONE
TZID:UTC
BEGIN:STANDARD
TZOFFSETFROM:+0000
TZOFFSETTO:+0000
DTSTART:20221109T053000
TZNAME:UTC
END:STANDARD
END:VTIMEZONE
BEGIN:VTIMEZONE
TZID:UTC
BEGIN:STANDARD
TZOFFSETFROM:+0000
TZOFFSETTO:+0000
DTSTART:20221109T053000
TZNAME:UTC
END:STANDARD
END:VTIMEZONE
BEGIN:VEVENT
SUMMARY:Lady's Night Out
DESCRIPTION:Lely Lady's Night Out will be on Wednesday\, May 10 at 5:30 
 pm at Saki Restaurant\, the corner of Rt. 41 &amp\; Rattlesnake Hammock 
 Road\, Naples! Send a not to Gail Minard at gail.minard@yahoo.com to mak
 e a reservation.
URL;VALUE=URI:https://lpcnaples.org/events/ladys-night-out/
UID:urn:uuid:003de6a9-a415-4573-a965-f08776cd53f5
STATUS:CONFIRMED
ORGANIZER:
DTSTAMP:20260421T081811Z
DTSTART;TZID=UTC:20230510T173000
DTEND;TZID=UTC:20230510T193000
END:VEVENT
END:VCALENDAR