BEGIN:VCALENDAR
METHOD:PUBLISH
VERSION:2.0
CALSCALE:GREGORIAN
PRODID:-//NONSGML Sandhills Development\, LLC//NONSGML Sugar Calendar Fe
 eds v3.7.3//EN
X-WR-CALNAME:Ladies Night Out!
X-WR-CALDESC:Lely Presbyterian Church
X-WR-TIMEZONE:UTC
BEGIN:VTIMEZONE
TZID:UTC
BEGIN:STANDARD
TZOFFSETFROM:+0000
TZOFFSETTO:+0000
DTSTART:20221214T053000
TZNAME:UTC
END:STANDARD
END:VTIMEZONE
BEGIN:VTIMEZONE
TZID:UTC
BEGIN:STANDARD
TZOFFSETFROM:+0000
TZOFFSETTO:+0000
DTSTART:20221214T053000
TZNAME:UTC
END:STANDARD
END:VTIMEZONE
BEGIN:VEVENT
SUMMARY:Ladies Night Out!
DESCRIPTION:Join the women of Lely Presbyterian Church on Wednesday\, Ju
 ne 14 at 5:30 pm  for dinner at Tacos and Tequila\, located off Davis B
 lvd. in the Kings Lake Plaza. Send an email to Gail Minard at gail.minar
 d@yahoo.com to make your reservation!  Gather at 5:30 pm!!
URL;VALUE=URI:https://lpcnaples.org/events/ladies-night-out/
UID:urn:uuid:6eb65d71-15c9-4dc7-b27e-3768aa27b1e0
STATUS:CONFIRMED
ORGANIZER:
DTSTAMP:20260421T152800Z
DTSTART;TZID=UTC:20230614T173000
DTEND;TZID=UTC:20230614T193000
END:VEVENT
END:VCALENDAR