BEGIN:VCALENDAR
METHOD:PUBLISH
VERSION:2.0
CALSCALE:GREGORIAN
PRODID:-//NONSGML Sandhills Development\, LLC//NONSGML Sugar Calendar Fe
 eds v3.7.3//EN
X-WR-CALNAME:Friendlies Luncheon
X-WR-CALDESC:Lely Presbyterian Church
X-WR-TIMEZONE:UTC
BEGIN:VTIMEZONE
TZID:UTC
BEGIN:STANDARD
TZOFFSETFROM:+0000
TZOFFSETTO:+0000
DTSTART:20240704T000000
TZNAME:UTC
END:STANDARD
END:VTIMEZONE
BEGIN:VTIMEZONE
TZID:UTC
BEGIN:STANDARD
TZOFFSETFROM:+0000
TZOFFSETTO:+0000
DTSTART:20240704T000000
TZNAME:UTC
END:STANDARD
END:VTIMEZONE
BEGIN:VEVENT
SUMMARY:Friendlies Luncheon
DESCRIPTION:
URL;VALUE=URI:https://lpcnaples.org/events/friendlies-luncheon-3/
UID:urn:uuid:4759a38f-3cfc-4ef8-9259-1bfd999cc952
STATUS:CONFIRMED
ORGANIZER:
DTSTAMP:20260421T082024Z
DTSTART;TZID=UTC:20250102T120000
DTEND;TZID=UTC:20250102T130000
END:VEVENT
END:VCALENDAR