BEGIN:VCALENDAR
METHOD:PUBLISH
VERSION:2.0
CALSCALE:GREGORIAN
PRODID:-//NONSGML Sandhills Development\, LLC//NONSGML Sugar Calendar Fe
 eds v3.7.3//EN
X-WR-CALNAME:Friendlies Lunch\, Thursday\, May 7 at noon
X-WR-CALDESC:Lely Presbyterian Church
X-WR-TIMEZONE:UTC
BEGIN:VTIMEZONE
TZID:UTC
BEGIN:STANDARD
TZOFFSETFROM:+0000
TZOFFSETTO:+0000
DTSTART:20251106T000000
TZNAME:UTC
END:STANDARD
END:VTIMEZONE
BEGIN:VTIMEZONE
TZID:UTC
BEGIN:STANDARD
TZOFFSETFROM:+0000
TZOFFSETTO:+0000
DTSTART:20251106T000000
TZNAME:UTC
END:STANDARD
END:VTIMEZONE
BEGIN:VEVENT
SUMMARY:Friendlies Lunch\, Thursday\, May 7 at noon
DESCRIPTION:Friendlies will meet on Thursday\, May 7\, at 12 noon\, at 
 American Legion Post 135\, 2296 Tamiami Trail East. Call or text Bonnie 
 Kluttz at (239) 777-8978 to RSVP.
URL;VALUE=URI:https://lpcnaples.org/events/friendlies-lunch-thursday-may
 -7-at-noon/
UID:urn:uuid:c9e3118e-8b8d-4851-8211-546ab63998c1
STATUS:CONFIRMED
ORGANIZER:
DTSTAMP:20260425T153240Z
DTSTART;TZID=UTC:20260507T120000
DTEND;TZID=UTC:20260507T130000
LOCATION:2296 Tamiami Trail East
END:VEVENT
END:VCALENDAR