BEGIN:VCALENDAR
METHOD:PUBLISH
VERSION:2.0
CALSCALE:GREGORIAN
PRODID:-//NONSGML Sandhills Development\, LLC//NONSGML Sugar Calendar Fe
 eds v3.7.3//EN
X-WR-CALNAME:Friendlies
X-WR-CALDESC:Lely Presbyterian Church
X-WR-TIMEZONE:UTC
BEGIN:VTIMEZONE
TZID:UTC
BEGIN:STANDARD
TZOFFSETFROM:+0000
TZOFFSETTO:+0000
DTSTART:20240905T000000
TZNAME:UTC
END:STANDARD
END:VTIMEZONE
BEGIN:VTIMEZONE
TZID:UTC
BEGIN:STANDARD
TZOFFSETFROM:+0000
TZOFFSETTO:+0000
DTSTART:20240905T000000
TZNAME:UTC
END:STANDARD
END:VTIMEZONE
BEGIN:VEVENT
SUMMARY:Friendlies
DESCRIPTION:Friendlies will be at Carabba’s on East trail on Thursday\
 , March 6th at 12 noon. Please call Bonnie Kluttz 239-777-8978 to make a
  reservation or if you need a ride.
URL;VALUE=URI:https://lpcnaples.org/events/friendlies-3/
UID:urn:uuid:c72f71dd-ba80-4aa5-8ee7-dadf66729fd1
STATUS:CONFIRMED
ORGANIZER:
DTSTAMP:20260420T005450Z
DTSTART;TZID=UTC:20250306T120000
DTEND;TZID=UTC:20250306T130000
LOCATION:110 St Andrews Blvd
END:VEVENT
END:VCALENDAR