BEGIN:VCALENDAR
METHOD:PUBLISH
VERSION:2.0
CALSCALE:GREGORIAN
PRODID:-//NONSGML Sandhills Development\, LLC//NONSGML Sugar Calendar Fe
 eds v3.7.3//EN
X-WR-CALNAME:Cub Scout Pack #325 Pancake Breakfast in Kemp Hall
X-WR-CALDESC:Lely Presbyterian Church
X-WR-TIMEZONE:UTC
BEGIN:VTIMEZONE
TZID:UTC
BEGIN:STANDARD
TZOFFSETFROM:+0000
TZOFFSETTO:+0000
DTSTART:20231014T230000
TZNAME:UTC
END:STANDARD
END:VTIMEZONE
BEGIN:VTIMEZONE
TZID:UTC
BEGIN:STANDARD
TZOFFSETFROM:+0000
TZOFFSETTO:+0000
DTSTART:20231014T230000
TZNAME:UTC
END:STANDARD
END:VTIMEZONE
BEGIN:VEVENT
SUMMARY:Cub Scout Pack #325 Pancake Breakfast in Kemp Hall
DESCRIPTION:
URL;VALUE=URI:https://lpcnaples.org/events/cub-scout-pack-325-pancake-br
 eakfast-in-kemp-hall/
UID:urn:uuid:2872e87d-dff5-4c7b-b315-8cc751c3e274
STATUS:CONFIRMED
ORGANIZER:
DTSTAMP:20260421T093641Z
DTSTART;TZID=UTC:20240414T110000
DTEND;TZID=UTC:20240414T130000
LOCATION:Lely Presbyterian Church\, 110 St Andrews Blvd\, Naples\, Flori
 da\, 34113
END:VEVENT
END:VCALENDAR