BEGIN:VCALENDAR
METHOD:PUBLISH
VERSION:2.0
CALSCALE:GREGORIAN
PRODID:-//NONSGML Sandhills Development\, LLC//NONSGML Sugar Calendar Fe
 eds v3.7.3//EN
X-WR-CALNAME:Cook-In\, May 16 at 4:00 p.m. Guest Speaker
X-WR-CALDESC:Lely Presbyterian Church
X-WR-TIMEZONE:UTC
BEGIN:VTIMEZONE
TZID:UTC
BEGIN:STANDARD
TZOFFSETFROM:+0000
TZOFFSETTO:+0000
DTSTART:20251115T040000
TZNAME:UTC
END:STANDARD
END:VTIMEZONE
BEGIN:VTIMEZONE
TZID:UTC
BEGIN:STANDARD
TZOFFSETFROM:+0000
TZOFFSETTO:+0000
DTSTART:20251115T040000
TZNAME:UTC
END:STANDARD
END:VTIMEZONE
BEGIN:VEVENT
SUMMARY:Cook-In\, May 16 at 4:00 p.m. Guest Speaker
DESCRIPTION:Come enjoy an inspirational presentation by Christine Sadry\
 , Award-Winning Author &amp\; Speaker. She will share her personal journ
 ey of resilience\, healing and hope! A light dinner of subs\, salads &am
 p\; desserts will be served. The cost is $15.00.
URL;VALUE=URI:https://lpcnaples.org/events/cook-in-may-16-at-400-p-m-gue
 st-speaker/
UID:urn:uuid:0ba89cad-e06e-4fbc-828e-58d0ce60cc9b
STATUS:CONFIRMED
ORGANIZER:
DTSTAMP:20260425T155627Z
DTSTART;TZID=UTC:20260516T160000
DTEND;TZID=UTC:20260516T170000
LOCATION:110 St Andrews Blvd.
END:VEVENT
END:VCALENDAR