BEGIN:VCALENDAR
METHOD:PUBLISH
VERSION:2.0
CALSCALE:GREGORIAN
PRODID:-//NONSGML Sandhills Development\, LLC//NONSGML Sugar Calendar Fe
 eds v3.7.3//EN
X-WR-CALNAME:Christmas Eve Services - 5:00 & 8:00 pm Services - 11:00 pm
  Communion
X-WR-CALDESC:Lely Presbyterian Church
X-WR-TIMEZONE:UTC
BEGIN:VTIMEZONE
TZID:UTC
BEGIN:STANDARD
TZOFFSETFROM:+0000
TZOFFSETTO:+0000
DTSTART:20230625T050000
TZNAME:UTC
END:STANDARD
END:VTIMEZONE
BEGIN:VTIMEZONE
TZID:UTC
BEGIN:STANDARD
TZOFFSETFROM:+0000
TZOFFSETTO:+0000
DTSTART:20230625T050000
TZNAME:UTC
END:STANDARD
END:VTIMEZONE
BEGIN:VEVENT
SUMMARY:Christmas Eve Services - 5:00 & 8:00 pm Services - 11:00 pm Comm
 union
DESCRIPTION:December 24\, 2023\n\n 5:00 &amp\; 8:00 pm Candlelight Serv
 ices\n\n 11:00 pm Candlelight and Communion\n\nLely Presbyterian Church
  will celebrate Christmas Eve on Sunday\, December 24 with a 5:00 &amp\;
  8:00 pm service of worship followed by a brief 11:00 pm Communion Servi
 ce.
URL;VALUE=URI:https://lpcnaples.org/events/christmas-eve-services-500-80
 0-pm-services-1100-pm-communion/
UID:urn:uuid:fd70691e-63a3-4372-9085-6426a6450063
STATUS:CONFIRMED
ORGANIZER:
DTSTAMP:20260421T082218Z
DTSTART;TZID=UTC:20231224T170000
DTEND;TZID=UTC:20231224T233000
LOCATION:Lely Presbyterian Church\, 110 St Andrews Blvd\, Naples\, Flori
 da\, 34113
END:VEVENT
END:VCALENDAR