BEGIN:VCALENDAR
METHOD:PUBLISH
VERSION:2.0
CALSCALE:GREGORIAN
PRODID:-//NONSGML Sandhills Development\, LLC//NONSGML Sugar Calendar Fe
 eds v3.7.3//EN
X-WR-CALNAME:Celebration of Life Donna Fiala\, Tuesday\, April 28 at 1:0
 0 p.m.
X-WR-CALDESC:Lely Presbyterian Church
X-WR-TIMEZONE:UTC
BEGIN:VTIMEZONE
TZID:UTC
BEGIN:STANDARD
TZOFFSETFROM:+0000
TZOFFSETTO:+0000
DTSTART:20251028T010000
TZNAME:UTC
END:STANDARD
END:VTIMEZONE
BEGIN:VTIMEZONE
TZID:UTC
BEGIN:STANDARD
TZOFFSETFROM:+0000
TZOFFSETTO:+0000
DTSTART:20251028T010000
TZNAME:UTC
END:STANDARD
END:VTIMEZONE
BEGIN:VEVENT
SUMMARY:Celebration of Life Donna Fiala\, Tuesday\, April 28 at 1:00 p.m
 .
DESCRIPTION:Donna Fiala's Celebration of Life service will be Tuesday\, 
 April 28 at 1:00 p.m. in our Sanctuary at Lely Presbyterian Church. A re
 ception will immediately follow the service in Kemp Hall..
URL;VALUE=URI:https://lpcnaples.org/events/celebration-of-life-donna-fia
 la-tuesday-april-28-at-100-p-m/
UID:urn:uuid:6b9c4c30-0e89-4b9c-b044-7a7e4aee8cf8
STATUS:CONFIRMED
ORGANIZER:
DTSTAMP:20260425T153826Z
DTSTART;TZID=UTC:20260428T130000
DTEND;TZID=UTC:20260428T140000
LOCATION:110 St Andrews Blvd.
END:VEVENT
END:VCALENDAR