BEGIN:VCALENDAR
METHOD:PUBLISH
VERSION:2.0
CALSCALE:GREGORIAN
PRODID:-//NONSGML Sandhills Development\, LLC//NONSGML Sugar Calendar Fe
 eds v3.7.3//EN
X-WR-CALNAME:Catered Cook-In
X-WR-CALDESC:Lely Presbyterian Church
X-WR-TIMEZONE:UTC
BEGIN:VTIMEZONE
TZID:UTC
BEGIN:STANDARD
TZOFFSETFROM:+0000
TZOFFSETTO:+0000
DTSTART:20250215T040000
TZNAME:UTC
END:STANDARD
END:VTIMEZONE
BEGIN:VTIMEZONE
TZID:UTC
BEGIN:STANDARD
TZOFFSETFROM:+0000
TZOFFSETTO:+0000
DTSTART:20250215T040000
TZNAME:UTC
END:STANDARD
END:VTIMEZONE
BEGIN:VEVENT
SUMMARY:Catered Cook-In
DESCRIPTION:Watch for who will cater this meal. More information to come
 .
URL;VALUE=URI:https://lpcnaples.org/events/catered-cook-in/
UID:urn:uuid:45d20802-573d-4267-9592-f3888547c364
STATUS:CONFIRMED
ORGANIZER:
DTSTAMP:20260421T184647Z
DTSTART;TZID=UTC:20250816T160000
DTEND;TZID=UTC:20250816T180000
END:VEVENT
END:VCALENDAR